BEGIN:VCALENDAR
VERSION:2.0
PRODID:-//casatipton.org//NONSGML kigkonsult.se iCalcreator 2.30.10//
CALSCALE:GREGORIAN
METHOD:PUBLISH
UID:af861e1c-20b0-48e9-941f-ba970d8fc756
X-WR-CALDESC:
X-WR-RELCALID:66fd050de61f7b8b45f815cb44e8ce3c
X-WR-TIMEZONE:America/Chicago
BEGIN:VTIMEZONE
TZID:America/Chicago
BEGIN:STANDARD
TZNAME:CST
DTSTART:20241103T020000
TZOFFSETFROM:-0500
TZOFFSETTO:-0600
RDATE:20251102T020000
RDATE:20261101T020000
END:STANDARD
BEGIN:DAYLIGHT
TZNAME:CDT
DTSTART:20250309T020000
TZOFFSETFROM:-0600
TZOFFSETTO:-0500
RDATE:20260308T020000
RDATE:20270314T020000
END:DAYLIGHT
END:VTIMEZONE
BEGIN:VEVENT
UID:bfcc0a76-19cd-45ec-a85b-c6917a2bd653
DTSTAMP:20260420T083016Z
DESCRIPTION:
DTSTART;TZID=America/Chicago:20251025T150000
DTEND;TZID=America/Chicago:20251025T190000
LOCATION:Nancy Lane Park\, Atoka TN\, Atoka\, TN 38004 US
SUMMARY:Atoka Safe Night Out
END:VEVENT
END:VCALENDAR
