BEGIN:VCALENDAR
VERSION:2.0
PRODID:-//casatipton.org//NONSGML kigkonsult.se iCalcreator 2.30.10//
CALSCALE:GREGORIAN
METHOD:PUBLISH
UID:7052509a-2dea-45ac-aef2-feca65e2547d
X-WR-CALDESC:
X-WR-RELCALID:9a287aa331d66ef23082575c05a40de7
X-WR-TIMEZONE:America/Chicago
BEGIN:VTIMEZONE
TZID:America/Chicago
BEGIN:STANDARD
TZNAME:CST
DTSTART:20241103T020000
TZOFFSETFROM:-0500
TZOFFSETTO:-0600
RDATE:20251102T020000
RDATE:20261101T020000
END:STANDARD
BEGIN:DAYLIGHT
TZNAME:CDT
DTSTART:20250309T020000
TZOFFSETFROM:-0600
TZOFFSETTO:-0500
RDATE:20260308T020000
END:DAYLIGHT
END:VTIMEZONE
BEGIN:VEVENT
UID:56616772-865d-42d8-81c6-04ee636e2663
DTSTAMP:20260422T120534Z
DESCRIPTION:
DTSTART;TZID=America/Chicago:20250510T080000
DTEND;TZID=America/Chicago:20250510T130000
LOCATION:689 Kelly Corner Road\, Covington\, TN 38019 US
SUMMARY:Rhodes House
END:VEVENT
END:VCALENDAR
