BEGIN:VCALENDAR
VERSION:2.0
PRODID:-//casatipton.org//NONSGML kigkonsult.se iCalcreator 2.30.10//
CALSCALE:GREGORIAN
METHOD:PUBLISH
UID:dca035ec-7abb-4612-a1bd-184b4daa04b6
X-WR-CALDESC:Come out and visit CASA at the Rhodes House event. Learn what 
 CASA does and is all about and find out How you can Be for the Child\n\nTh
 e Rhodes House is a boutique open-air shopping experience every 2nd Saturd
 ay in Covington\, Tennessee. Please DM if you're interested in applying to
  be a vendor or if you're a shopper who would like news and updates about 
 the market!
X-WR-RELCALID:524089f538a0a95b31132b43cf765ae6
X-WR-TIMEZONE:America/Chicago
BEGIN:VTIMEZONE
TZID:America/Chicago
BEGIN:STANDARD
TZNAME:CST
DTSTART:20241103T020000
TZOFFSETFROM:-0500
TZOFFSETTO:-0600
RDATE:20251102T020000
END:STANDARD
BEGIN:DAYLIGHT
TZNAME:CDT
DTSTART:20250309T020000
TZOFFSETFROM:-0600
TZOFFSETTO:-0500
RDATE:20260308T020000
END:DAYLIGHT
END:VTIMEZONE
BEGIN:VEVENT
UID:2c281edc-0f5a-426d-ae1f-414af4cda3a7
DTSTAMP:20260422T133354Z
DESCRIPTION:Come out and visit CASA at the Rhodes House event. Learn what C
 ASA does and is all about and find out How you can Be for the Child\n\nThe
  Rhodes House is a boutique open-air shopping experience every 2nd Saturda
 y in Covington\, Tennessee. Please DM if you're interested in applying to 
 be a vendor or if you're a shopper who would like news and updates about t
 he market!
DTSTART;TZID=America/Chicago:20250412T080000
DTEND;TZID=America/Chicago:20250412T130000
LOCATION:689 Kelly Corner Road\, Covington\, TN 38019 US
SUMMARY:CASA at Rhodes Rouse
END:VEVENT
END:VCALENDAR
