BEGIN:VCALENDAR
VERSION:2.0
PRODID:-//casatipton.org//NONSGML kigkonsult.se iCalcreator 2.30.10//
CALSCALE:GREGORIAN
METHOD:PUBLISH
UID:0fa63ea8-dcb3-4859-88d4-4d3a70fed3fc
X-WR-CALDESC:Come out and visit CASA at the Rhodes House event. Learn what 
 CASA does and is all about and find out How you can Be for the Child\n\nTh
 e Rhodes House is a boutique open-air shopping experience every 2nd Saturd
 ay in Covington\, Tennessee. Please DM if you're interested in applying to
  be a vendor or if you're a shopper who would like news and updates about 
 the market!
X-WR-RELCALID:8fa02c5eace5b3263b41493816b7261a
X-WR-TIMEZONE:America/Chicago
BEGIN:VTIMEZONE
TZID:America/Chicago
BEGIN:STANDARD
TZNAME:CST
DTSTART:20241103T020000
TZOFFSETFROM:-0500
TZOFFSETTO:-0600
RDATE:20251102T020000
END:STANDARD
BEGIN:DAYLIGHT
TZNAME:CDT
DTSTART:20240310T020000
TZOFFSETFROM:-0600
TZOFFSETTO:-0500
RDATE:20250309T020000
RDATE:20260308T020000
END:DAYLIGHT
END:VTIMEZONE
BEGIN:VEVENT
UID:dddb0e8f-08f2-463b-8ef9-51e61db0c534
DTSTAMP:20260422T151532Z
DESCRIPTION:Come out and visit CASA at the Rhodes House event. Learn what C
 ASA does and is all about and find out How you can Be for the Child\n\nThe
  Rhodes House is a boutique open-air shopping experience every 2nd Saturda
 y in Covington\, Tennessee. Please DM if you're interested in applying to 
 be a vendor or if you're a shopper who would like news and updates about t
 he market!
DTSTART;TZID=America/Chicago:20250308T080000
DTEND;TZID=America/Chicago:20250308T130000
LOCATION:689 Kelly Corner Road\, Covington\, TN 38019 US
SUMMARY:CASA at Rhodes House
END:VEVENT
END:VCALENDAR
